BEGIN:VCALENDAR
VERSION:2.0
PRODID:-//Fahrschule QUBE - ECPv6.15.20//NONSGML v1.0//EN
CALSCALE:GREGORIAN
METHOD:PUBLISH
X-WR-CALNAME:Fahrschule QUBE
X-ORIGINAL-URL:https://qube-fahrschule.de
X-WR-CALDESC:Veranstaltungen für Fahrschule QUBE
REFRESH-INTERVAL;VALUE=DURATION:PT1H
X-Robots-Tag:noindex
X-PUBLISHED-TTL:PT1H
BEGIN:VTIMEZONE
TZID:Europe/Berlin
BEGIN:DAYLIGHT
TZOFFSETFROM:+0100
TZOFFSETTO:+0200
TZNAME:CEST
DTSTART:20250330T010000
END:DAYLIGHT
BEGIN:STANDARD
TZOFFSETFROM:+0200
TZOFFSETTO:+0100
TZNAME:CET
DTSTART:20251026T010000
END:STANDARD
BEGIN:DAYLIGHT
TZOFFSETFROM:+0100
TZOFFSETTO:+0200
TZNAME:CEST
DTSTART:20260329T010000
END:DAYLIGHT
BEGIN:STANDARD
TZOFFSETFROM:+0200
TZOFFSETTO:+0100
TZNAME:CET
DTSTART:20261025T010000
END:STANDARD
BEGIN:DAYLIGHT
TZOFFSETFROM:+0100
TZOFFSETTO:+0200
TZNAME:CEST
DTSTART:20270328T010000
END:DAYLIGHT
BEGIN:STANDARD
TZOFFSETFROM:+0200
TZOFFSETTO:+0100
TZNAME:CET
DTSTART:20271031T010000
END:STANDARD
END:VTIMEZONE
BEGIN:VEVENT
DTSTART;TZID=Europe/Berlin:20260509T080000
DTEND;TZID=Europe/Berlin:20260509T080000
DTSTAMP:20260425T215432
CREATED:20251229T094900Z
LAST-MODIFIED:20251229T094920Z
UID:3752-1778313600-1778313600@qube-fahrschule.de
SUMMARY:B96 Anhängerschulung | Tageskurs 09.05.2026
DESCRIPTION:Kurstermine:\nTageskurs – 09.05.2026 \nFreie verfügbare Plätze: 3 \nMaximale Teilnehmeranzahl pro Kurs liegt bei 3 Personen. Die Schulungen umfassen 7 Zeitstunden und beginnen jeweils um 08:00 Uhr. Der Endzeitpunkt der Schulungen wird gesondert mitgeteilt.\nB96-Kursgebühr: Pro Teilnehmer 349\,- € \nJetzt unverbindlich anmelden!
URL:https://qube-fahrschule.de/event/b96-anhaengerschulung-beginn-09-05-26/
LOCATION:Fahrschule Qube\, Jörg-Ratgeb-Platz 3\, Heilbronn\, Baden-Württemberg\, 74081\, Deutschland
CATEGORIES:B96 - Anhängerschulung
ATTACH;FMTTYPE=image/jpeg:https://qube-fahrschule.de/wp-content/uploads/2023/08/B96-Anhaengerfuehrerschein.jpg
END:VEVENT
BEGIN:VEVENT
DTSTART;TZID=Europe/Berlin:20260620T080000
DTEND;TZID=Europe/Berlin:20260620T080000
DTSTAMP:20260425T215432
CREATED:20251229T095130Z
LAST-MODIFIED:20251229T095140Z
UID:3754-1781942400-1781942400@qube-fahrschule.de
SUMMARY:B96 Anhängerschulung | Tageskurs 20.06.2026
DESCRIPTION:Kurstermine:\nTageskurs – 20.06.2026 \nFreie verfügbare Plätze: 3 \nMaximale Teilnehmeranzahl pro Kurs liegt bei 3 Personen. Die Schulungen umfassen 7 Zeitstunden und beginnen jeweils um 08:00 Uhr. Der Endzeitpunkt der Schulungen wird gesondert mitgeteilt.\nB96-Kursgebühr: Pro Teilnehmer 349\,- € \nJetzt unverbindlich anmelden!
URL:https://qube-fahrschule.de/event/b96-anhaengerschulung-beginn-20-06-26/
LOCATION:Fahrschule Qube\, Jörg-Ratgeb-Platz 3\, Heilbronn\, Baden-Württemberg\, 74081\, Deutschland
CATEGORIES:B96 - Anhängerschulung
ATTACH;FMTTYPE=image/jpeg:https://qube-fahrschule.de/wp-content/uploads/2023/08/B96-Anhaengerfuehrerschein.jpg
END:VEVENT
END:VCALENDAR